BEGIN:VCALENDAR
VERSION:2.0
PRODID:-//wp-events-plugin.com//7.2.2.1//EN
TZID:Europe/Berlin
X-WR-TIMEZONE:Europe/Berlin
BEGIN:VEVENT
UID:58@pam-music.de
DTSTART;TZID=Europe/Berlin:20260207T190000
DTEND;TZID=Europe/Berlin:20260207T190000
DTSTAMP:20251111T182432Z
URL:https://www.pam-music.de/events/abendsitzung-lcv-blaue-funker-2026-202
 6-01-24-2026-01-31-2026-02-07/
SUMMARY:Abendsitzung LCV Blaue Funker 2026
DESCRIPTION:Helau Limburg! Die närrische Zeit steht vor der Tür – und w
 ir sind wieder mit dabei!An drei Abenden (24.01.\, 31.01. und 07.02.) brin
 gen wir gemeinsam mit dem LCV Blaue Funker Limburg das Zelt zum Beben. Euc
 h erwartet eine bunte Mischung aus Stimmung\, Spaß und ganz viel Musik 
 – live\, handgemacht und mit jeder Menge guter Laune.\nVon Karnevalsklas
 sikern bis zu aktuellen Partyhits sorgen wir dafür\, dass kein Sitz leer 
 und keine Stimme ungenutzt bleibt. Also: zieht eure Kappen auf\, schnappt 
 euch eure Freunde und feiert mit uns\, wie es sich für echte Blaue Funker
  gehört!\n📅 Termine:24.01. · 31.01. · 07.02.📍 LCV Blaue Funker Li
 mburg👉 Weitere Infos &amp\; Tickets: www.blauefunker.de
ATTACH;FMTTYPE=image/jpeg:https://www.pam-music.de/wp-content/uploads/2025
 /11/Kappensitzung-LCV-2026.png
CATEGORIES:Öffentlich
LOCATION:Vereinsheim LCV Blaue Funker Limburg\, Am Stephanshügel 10\, Limb
 urg\, Hessen\, Deutschland
X-APPLE-STRUCTURED-LOCATION;VALUE=URI;X-ADDRESS=Am Stephanshügel 10\, Limb
 urg\, Hessen\, Deutschland;X-APPLE-RADIUS=100;X-TITLE=Vereinsheim LCV Blau
 e Funker Limburg:geo:0,0
END:VEVENT
BEGIN:VTIMEZONE
TZID:Europe/Berlin
X-LIC-LOCATION:Europe/Berlin
BEGIN:STANDARD
DTSTART:20251026T020000
TZOFFSETFROM:+0200
TZOFFSETTO:+0100
TZNAME:CET
END:STANDARD
END:VTIMEZONE
END:VCALENDAR