BEGIN:VCALENDAR
VERSION:2.0
PRODID:-//wp-events-plugin.com//7.2.2.1//EN
TZID:Europe/Berlin
X-WR-TIMEZONE:Europe/Berlin
BEGIN:VEVENT
UID:62@pam-music.de
DTSTART;TZID=Europe/Berlin:20260110T190000
DTEND;TZID=Europe/Berlin:20260110T190000
DTSTAMP:20251111T184645Z
URL:https://www.pam-music.de/events/karnevalsparty-flacht-2026/
SUMMARY:Karnevalsparty in Flacht 2026
DESCRIPTION:🎭 Karnevalsparty Flacht 2026 – Feiern bis die Kappen flieg
 en! 🎶\nDie Karnevalsparty Flacht 2026 steht vor der Tür! Am 10. Januar
  2026 verwandelt sich die Aartalhalle Flacht in ein buntes Meer aus Musik\
 , Tanz und guter Laune. Gemeinsam mit PAM – Deine Partyband feiern wir d
 en Start in die fünfte Jahreszeit.\nUnsere Karnevalsparty ist längst ein
  Highlight in der Region. Es gibt mitreißende Tanzgruppen\, stimmungsvoll
 e Showacts und jede Menge Musik. Dazu bringt PAM die besten Partyhits\, Ka
 rnevalsklassiker und aktuelle Charts auf die Bühne – live\, laut und vo
 ller Energie.\nOb Funkenmariechen\, Pirat oder einfach nur jeck – hier d
 arf jede und jeder mitfeiern. Die Stimmung steigt Schlag auf Schlag\, denn
  zwischen den Auftritten bleibt kaum Zeit zum Durchatmen. Außerdem sorgt 
 das Publikum mit Applaus und Gesang dafür\, dass aus einer Party ein echt
 es Erlebnis wird.\nWer beim Warm-up schon mitschunkelt\, erlebt beim Final
 e Gänsehaut pur. Deshalb gilt: Kostüm an\, Freunde einpacken und los geh
 t’s! Denn diese Nacht wird unvergesslich.\n👉 Weitere Infos findet ihr
  auf PAM – Deine Partyband und beim Veranstalter in Flacht.Besucht auße
 rdem unsere Seiten zur Mädchensitzung Limburg 2026 und zur Kappensitzung 
 Limburg 2026 – dort feiern wir mit euch weiter!\n📅 Termin: 10. Januar
  2026📍 Ort: Aartalhalle Flacht🎵 Musik: PAM – Deine Partyband💃 S
 pecials: Tanzgruppen\, Showacts und jede Menge Stimmung
ATTACH;FMTTYPE=image/jpeg:https://www.pam-music.de/wp-content/uploads/2025
 /11/Karneval-Flacht-2026.png
CATEGORIES:Öffentlich
LOCATION:Aartalhalle Flacht\, Wiesenstraße 7\, Flacht\, 65558\, Deutschlan
 d
X-APPLE-STRUCTURED-LOCATION;VALUE=URI;X-ADDRESS=Wiesenstraße 7\, Flacht\, 
 65558\, Deutschland;X-APPLE-RADIUS=100;X-TITLE=Aartalhalle Flacht:geo:0,0
END:VEVENT
BEGIN:VTIMEZONE
TZID:Europe/Berlin
X-LIC-LOCATION:Europe/Berlin
BEGIN:STANDARD
DTSTART:20251026T020000
TZOFFSETFROM:+0200
TZOFFSETTO:+0100
TZNAME:CET
END:STANDARD
END:VTIMEZONE
END:VCALENDAR