BEGIN:VCALENDAR
VERSION:2.0
PRODID:-//wp-events-plugin.com//7.2.2.1//EN
TZID:Europe/Berlin
X-WR-TIMEZONE:Europe/Berlin
BEGIN:VEVENT
UID:53@pam-music.de
DTSTART;TZID=Europe/Berlin:20250920T203000
DTEND;TZID=Europe/Berlin:20250920T203000
DTSTAMP:20250708T171121Z
URL:https://www.pam-music.de/events/kirmes-holzheim-2025/
SUMMARY:Kirmes Holzheim 2025
DESCRIPTION:Die Kirmes in Holzheim steht vor der Tür – und PAM ist natü
 rlich dabei! Am Samstag\, den 20. September 2025\, heißt es wieder: Bühn
 e frei für Livemusik\, gute Stimmung und einen unvergesslichen Abend im F
 estzelt neben dem Sportplatz. Ab 20:30 Uhr bringen wir die Bühne zum Bebe
 n – mit handgemachter Musik\, tanzbaren Rhythmen und jeder Menge Energie
 .\n\nOb Rock\, Pop oder Partyklassiker – PAM liefert wie immer einen bun
 ten Mix\, der jedes Publikum mitnimmt. Unsere Setlist bringt Generationen 
 zusammen\, animiert zum Mitsingen\, Mitklatschen und Tanzen. Und das Beste
 : Wir spielen mehrere Sets mit kurzen Pausen dazwischen\, sodass ihr zwisc
 hendurch Luft holen\, euch ein kühles Getränk holen – und dann gleich 
 weitertanzen könnt.\n\nGeplant ist ein Auftritt über rund fünf Stunden.
  In den letzten Jahren wurde oft spontan verlängert – wer weiß\, ob es
  auch diesmal eine Zugabe gibt? Sicher ist: Ihr solltet früh da sein und 
 eure Plätze sichern. Ob Eintritt verlangt wird\, können wir aktuell noch
  nicht sagen – aber ganz ehrlich: Für eine Nacht mit PAM ist jeder Cent
  gut investiert.\n\nDie Kirmes in Holzheim ist ein echtes Highlight im Kal
 ender der Region – und mit PAM live auf der Bühne wird das Festzelt gar
 antiert kochen. Schnappt euch eure Freunde\, kommt nach Holzheim und erleb
 t PAM live auf der Kirmes Holzheim 2025 – wie immer laut\, echt und voll
 er Herzblut.\n\nUnd eine kleine Anekdote am Rande: Flacht grenzt direkt an
  Holzheim – und manchmal trägt der Wind unsere Musik bis in den Nachbar
 ort. Das sorgt nicht nur für spontane Gartenkonzerte\, sondern auch mal f
 ür Beschwerden. Deshalb geben wir alles\, um den Wettergott davon zu übe
 rzeugen\, den Wind diesmal bitte aus Richtung Flacht wehen zu lassen. 😄
 \n\nWir freuen uns riesig auf euch! 💛
ATTACH;FMTTYPE=image/jpeg:https://www.pam-music.de/wp-content/uploads/2025
 /07/Kirmes-Holzheim-2025.png
CATEGORIES:Öffentlich
LOCATION:Holzheim / Sportplatz\, Am Sportplatz\, Holzheim\, 65558\, Deutsch
 land
X-APPLE-STRUCTURED-LOCATION;VALUE=URI;X-ADDRESS=Am Sportplatz\, Holzheim\, 
 65558\, Deutschland;X-APPLE-RADIUS=100;X-TITLE=Holzheim / Sportplatz:geo:0
 ,0
END:VEVENT
BEGIN:VTIMEZONE
TZID:Europe/Berlin
X-LIC-LOCATION:Europe/Berlin
BEGIN:DAYLIGHT
DTSTART:20250330T030000
TZOFFSETFROM:+0100
TZOFFSETTO:+0200
TZNAME:CEST
END:DAYLIGHT
END:VTIMEZONE
END:VCALENDAR