BEGIN:VCALENDAR
VERSION:2.0
PRODID:-//wp-events-plugin.com//7.2.2.1//EN
TZID:Europe/Berlin
X-WR-TIMEZONE:Europe/Berlin
BEGIN:VEVENT
UID:61@pam-music.de
DTSTART;TZID=Europe/Berlin:20260213T190000
DTEND;TZID=Europe/Berlin:20260213T190000
DTSTAMP:20251111T183047Z
URL:https://www.pam-music.de/events/maedchensitzung-lcv-blaue-funker-2026-
 2026-02-06-2026-02-13/
SUMMARY:Mädchensitzung LCV Blaue Funker 2026
DESCRIPTION:🎉 Mädchensitzung beim LCV Blaue Funker Limburg – hier geh
 t’s Schlag auf Schlag! 💃🔥\nVorhang auf für zwei Abende voller Spa
 ß\, Musik und Showpower!Am 06.02. und 13.02. heißt es wieder: Bühne fre
 i für die Mädels\, Stimmung bis zur letzten Reihe – und Männerballets
 \, die keinen Fuß stillstehen lassen!\nZwischen Tanz\, Humor und jeder Me
 nge Showeinlagen sorgt PAM – Deine Partyband für den perfekten Soundtra
 ck. Von Karnevalsklassikern bis zu aktuellen Partykrachern – wir bringen
  das Zelt zum Beben und die Stimmung zum Überkochen!\nAlso Ladies: Glitze
 r an\, Stimme ölen\, Lachen trainieren – die Blaue Funker machen wieder
  Limburgs heißeste Mädchensitzung klar!\n📅 Termine:06.02. · 13.02.
 📍 LCV Blaue Funker Limburg👉 Mehr Infos &amp\; Tickets: www.blauefunk
 er.de
ATTACH;FMTTYPE=image/jpeg:https://www.pam-music.de/wp-content/uploads/2025
 /11/Maedchensitzung-LCV-2026.png
CATEGORIES:Öffentlich
LOCATION:Vereinsheim LCV Blaue Funker Limburg\, Am Stephanshügel 10\, Limb
 urg\, Hessen\, Deutschland
X-APPLE-STRUCTURED-LOCATION;VALUE=URI;X-ADDRESS=Am Stephanshügel 10\, Limb
 urg\, Hessen\, Deutschland;X-APPLE-RADIUS=100;X-TITLE=Vereinsheim LCV Blau
 e Funker Limburg:geo:0,0
END:VEVENT
BEGIN:VTIMEZONE
TZID:Europe/Berlin
X-LIC-LOCATION:Europe/Berlin
BEGIN:STANDARD
DTSTART:20251026T020000
TZOFFSETFROM:+0200
TZOFFSETTO:+0100
TZNAME:CET
END:STANDARD
END:VTIMEZONE
END:VCALENDAR