BEGIN:VCALENDAR
VERSION:2.0
PRODID:-//wp-events-plugin.com//7.2.2.1//EN
TZID:Europe/Berlin
X-WR-TIMEZONE:Europe/Berlin
BEGIN:VEVENT
UID:63@pam-music.de
DTSTART;TZID=Europe/Berlin:20260118T140000
DTEND;TZID=Europe/Berlin:20260118T140000
DTSTAMP:20251111T185655Z
URL:https://www.pam-music.de/events/seniorenfastnacht-limburg-2026/
SUMMARY:Seniorenfastnacht LCV Blaue Funker 2026
DESCRIPTION:🎭 Seniorenfastnacht Limburg 2026 – Musik\, Freude und Geme
 inschaft! 🎶\nDie Seniorenfastnacht Limburg 2026 steht kurz bevor\, und 
 die Vorfreude ist groß. Am 18. Januar 2026 lädt der LCV Blaue Funker Lim
 burg alle Närrinnen und Narren zu einem fröhlichen Nachmittag ein. Es wi
 rd gesungen\, gelacht und natürlich gefeiert.\nMit dabei ist PAM – Dein
 e Partyband – live\, herzlich und voller Energie. Wir spielen bekannte K
 arnevalslieder\, beliebte Schlager und Evergreens\, die jeder mitsingen ka
 nn. Musik verbindet Menschen\, und sie sorgt für gute Stimmung von Anfang
  bis Ende.\nDer LCV Blaue Funker Limburg hat außerdem wieder ein buntes P
 rogramm vorbereitet. Es gibt Tanzgruppen\, Showeinlagen und Büttenreden\,
  die für Begeisterung und viele Lacher sorgen. Dazu werden Kaffee und Kuc
 hen serviert\, sodass auch das leibliche Wohl nicht zu kurz kommt.\nWer ma
 g\, darf mitschunkeln und mittanzen\, denn hier ist Bewegung ausdrücklich
  erwünscht. Und wer lieber zuhört\, genießt einfach die Musik und die f
 röhliche Atmosphäre. Die Seniorenfastnacht Limburg 2026 steht für Gemei
 nschaft\, Freude und unbeschwerte Stunden – genau so\, wie Karneval sein
  sollte.\n👉 Weitere Infos findet ihr auf www.blauefunker.de und bei PAM
  – Deine Partyband.Schaut außerdem bei unseren Seiten zur Kappensitzung
  Limburg 2026 und zur Mädchensitzung Limburg 2026 vorbei – dort feiern 
 wir weiter!\n📅 Datum: 18. Januar 2026📍 Ort: LCV Blaue Funker Limburg
 🎵 Musik: PAM – Deine Partyband☕ Highlights: Livemusik\, Tanzgruppen
 \, Kaffee\, Kuchen und beste Stimmung
ATTACH;FMTTYPE=image/jpeg:https://www.pam-music.de/wp-content/uploads/2025
 /11/Seniorenfastnacht-2026.png
CATEGORIES:Öffentlich
LOCATION:Vereinsheim LCV Blaue Funker Limburg\, Am Stephanshügel 10\, Limb
 urg\, Hessen\, Deutschland
X-APPLE-STRUCTURED-LOCATION;VALUE=URI;X-ADDRESS=Am Stephanshügel 10\, Limb
 urg\, Hessen\, Deutschland;X-APPLE-RADIUS=100;X-TITLE=Vereinsheim LCV Blau
 e Funker Limburg:geo:0,0
END:VEVENT
BEGIN:VTIMEZONE
TZID:Europe/Berlin
X-LIC-LOCATION:Europe/Berlin
BEGIN:STANDARD
DTSTART:20251026T020000
TZOFFSETFROM:+0200
TZOFFSETTO:+0100
TZNAME:CET
END:STANDARD
END:VTIMEZONE
END:VCALENDAR